BEGIN:VCALENDAR
VERSION:2.0
PRODID:-//Spiral Astrology - ECPv6.2.6.1//NONSGML v1.0//EN
CALSCALE:GREGORIAN
METHOD:PUBLISH
X-WR-CALNAME:Spiral Astrology
X-ORIGINAL-URL:https://spiral-astrology.eu/wp
X-WR-CALDESC:Events for Spiral Astrology
REFRESH-INTERVAL;VALUE=DURATION:PT1H
X-Robots-Tag:noindex
X-PUBLISHED-TTL:PT1H
BEGIN:VTIMEZONE
TZID:Europe/Lisbon
BEGIN:DAYLIGHT
TZOFFSETFROM:+0000
TZOFFSETTO:+0100
TZNAME:WEST
DTSTART:20240331T010000
END:DAYLIGHT
BEGIN:STANDARD
TZOFFSETFROM:+0100
TZOFFSETTO:+0000
TZNAME:WET
DTSTART:20241027T010000
END:STANDARD
END:VTIMEZONE
BEGIN:VEVENT
DTSTART;TZID=Europe/Lisbon:20240302T160000
DTEND;TZID=Europe/Lisbon:20240302T180000
DTSTAMP:20260422T102825
CREATED:20240224T160012Z
LAST-MODIFIED:20240224T211439Z
UID:5668-1709395200-1709402400@spiral-astrology.eu
SUMMARY:Workshop - Astrologia\, Carl Jung\, psicologia e os 4 elementos - Tipos Psicológicos
DESCRIPTION:Workshop – Astrologia\, Carl Jung e os 4 elementos  — Tipos Psicológicos–  Por Luís Resina Sábado 2 de Março de 2024 das 16.00 às 18h Os oito tipos de personalidades Jungianas e a sua relação com os 4 elementos e os 2 hemisférios do Horóscopo Local: Atelier do pintor Luis Vieira Batista: Caxias (Alameda do Sabugueiro 7A – Murganhal) Valores de participação: Preço Normal: presencial 25€ – Online 30€                                                         Preço para Alunos do ano letivo 2023/2024:  20€ presencial; 25€ online Informações via telemóvel (Luís Resina) : 927363381 Para assistir online: Ingressar em Reunião Zoom: https://us02web.zoom.us/j/9639340746  Lugares reservados – Faça a sua inscrição no formulário acessível pelo botão abaixo   						\n				\n					\n		\n							\n		\n				\n						\n					\n			\n								\n				\n					\n			\n		\n				\n				\n				\n				\n					\n			\n						\n						Informações\, Inscrição e Pagamento
URL:https://spiral-astrology.eu/wp/evento/workshop-astrologia-carl-jung-psicologia-e-os-4-elementos-tipos-psicologicos/
LOCATION:Caxias\, Alameda do Sabugueiro 7A - Murganhal\, Caxias\, Lisboa\, 2760-128 Caxias\, Portugal
ATTACH;FMTTYPE=image/png:https://spiral-astrology.eu/wp/wp-content/uploads/2024/03/4elementostipospsicologicos.png
END:VEVENT
END:VCALENDAR